BEGIN:VCALENDAR
VERSION:2.0
PRODID:-//eventon.com NONSGML v1.0//EN
CALSCALE:GREGORIAN
METHOD:PUBLISH
BEGIN:VEVENT
UID:69eac38112087
DTSTAMP:20260424T011233Z
DTSTART:20190309T093000Z
DTEND:20190309T103000Z
LOCATION:
SUMMARY:Codex RÃ©gizene EgyÃ¼ttes - Fejedelmi vigadalom | Bon Bon MatinÃ©
DESCRIPTION:Az egyÃ¼ttes egyenesen ErdÃ©lybÅ‘l Ã©rkezik\,  hogy bemutassa a
 zt a kÃ¼lÃ¶nleges zenei vilÃ¡got\,  ami ErdÃ©lyt Ã©vszÃ¡zadokkal ezelÅ‘tt j
 ellemezte. Ebben nÃ©pi-\,  tÃ¶rÃ¶k-\,  mÅ±- Ã©s egyhÃ¡zzenei vonÃ¡sok ugyan
 Ãºgy megtalÃ¡lhatÃ³ak\,  ahogyan szÃ¡mos kÃ¼lÃ¶nleges hangszer is. Ã‰s a kÃ
 ©p a rÃ©gi idÅ‘k zenÃ©jÃ©rÅ‘l nem volna teljes\,  ha GyÅ‘zÅ‘ bÃ¡csi kÃ¶zben
  nem mesÃ©lne arrÃ³l\,  hogyan is[..]\nhttps://momkult.hu/events/codex-regi
 zene-egyuttes-fejedelmi-vigadalom-bon-bon-matine-csaladi-berlet/
URL:https://momkult.hu/events/codex-regizene-egyuttes-fejedelmi-vigadalom-bon-bon-matine-csaladi-berlet/
END:VEVENT
END:VCALENDAR