BEGIN:VCALENDAR
VERSION:2.0
PRODID:-//eventon.com NONSGML v1.0//EN
CALSCALE:GREGORIAN
METHOD:PUBLISH
BEGIN:VEVENT
UID:69eb0f540790b
DTSTAMP:20260424T063604Z
DTSTART:20190119T093000Z
DTEND:20190119T103000Z
LOCATION:
SUMMARY:Szerencsés János | Bon Bon Matiné | Családi bérlet
DESCRIPTION:&#8222;Hogy létezett-e ezidáig a blues zenejáték műfaja\, 
  abban magunk is bizonytalanok vagyunk. Abban azonban egészen biztosak\,  
 hogy innentől kezdve egyre népszerűbb lesz\,  ugyanis Szerda Árpád\,  
 vajdasági zeneszerző olyan csodálatos muzsikát szerzett\,  ami egészen
  bizonyosan sokakat meg fog nyerni ennek a már-már klasszikus műfajnak. 
 A Grimm testvérek által lejegyzett Szerencsés János[..]\nhttps://momkul
 t.hu/events/szerencses-janos-bon-bon-matine-csaladi-berlet/
URL:https://momkult.hu/events/szerencses-janos-bon-bon-matine-csaladi-berlet/
END:VEVENT
END:VCALENDAR