BEGIN:VCALENDAR
VERSION:2.0
PRODID:-//eventon.com NONSGML v1.0//EN
CALSCALE:GREGORIAN
METHOD:PUBLISH
BEGIN:VEVENT
UID:69eb777d48776
DTSTAMP:20260424T140029Z
DTSTART:20181208T093000Z
DTEND:20181208T103000Z
LOCATION:
SUMMARY:JAZZterlánc - Gyerek a világ | Bon Bon Matiné | Családi bérlet
DESCRIPTION:A Hot Jazz Band tagjaiból összeállt zenekar mögött számos
  koncert\,  külföldi utak és egy album is ékesen bizonyítja\,  hogy a 
 legkisebbek számára is fontos\,  hogy minőségi muzsikán nevelkedjenek.
  A JAZZterlánc Magyarországon újdonságnak számító jazz formáció. A
  zenekar tagjai professzionális\,  akadémiát végzett zenészek\,  szül
 ők és tanárok is. Ezért volt számukra fontos[..]\nhttps://momkult.hu/e
 vents/jazzterlanc-gyerek-a-vilag-bon-bon-matine-csaladi-berlet/
URL:https://momkult.hu/events/jazzterlanc-gyerek-a-vilag-bon-bon-matine-csaladi-berlet/
END:VEVENT
END:VCALENDAR