BEGIN:VCALENDAR
VERSION:2.0
PRODID:-//eventon.com NONSGML v1.0//EN
CALSCALE:GREGORIAN
METHOD:PUBLISH
BEGIN:VEVENT
UID:69eb89c6ac8b3
DTSTAMP:20260424T151830Z
DTSTART:20181110T093000Z
DTEND:20181110T103000Z
LOCATION:
SUMMARY:BonBon Színház - Színház?! | Bon Bon Matiné | Családi bérlet
DESCRIPTION:2 színész\,  1 mesélő és semmi díszlet. Mégis sok minden
  kiderül a BonBon Matiné 45 perces interaktív műsorában arról\,  mit 
 is jelent a színház? Tarr Ferenc\,  gyerekszínházi rendező éveken át
  tervezett előadása ez\,  melynek célja\,  hogy a hangszerismertető kon
 certekhez hasonlóan a színház eszköztárát is megismertesse a gyerekek
 kel. Az ő ötletének[..]\nhttps://momkult.hu/events/bonbon-szinhaz-szinha
 z-bon-bon-matine-csaladi-berlet/
URL:https://momkult.hu/events/bonbon-szinhaz-szinhaz-bon-bon-matine-csaladi-berlet/
END:VEVENT
END:VCALENDAR