BEGIN:VCALENDAR
VERSION:2.0
PRODID:-//eventon.com NONSGML v1.0//EN
CALSCALE:GREGORIAN
METHOD:PUBLISH
BEGIN:VEVENT
UID:69ebb3ef2e9de
DTSTAMP:20260424T181823Z
DTSTART:20180929T090000Z
DTEND:20180930T190000Z
LOCATION:
SUMMARY:Gesztenye Napok
DESCRIPTION:Hegyvidéki Autómentes Nap 2018\nhttps://momkult.hu/events/ges
 ztenye-napok-hegyvideki-automentes-nap-2018/
URL:https://momkult.hu/events/gesztenye-napok-hegyvideki-automentes-nap-2018/
END:VEVENT
END:VCALENDAR