BEGIN:VCALENDAR
VERSION:2.0
PRODID:-//eventon.com NONSGML v1.0//EN
CALSCALE:GREGORIAN
METHOD:PUBLISH
BEGIN:VEVENT
UID:69eb9e1e83d77
DTSTAMP:20260424T164518Z
DTSTART:20181014T140000Z
DTEND:20181014T170000Z
LOCATION:
SUMMARY:Kerekasztal beszélgetés
DESCRIPTION:15.00 órakor Imperfectum Együttes és Óberfrank Pál\,  a Ve
 szprémi Színház igazgatójának áhitata 16.00 Szünet\,  állófogadás
  16.30-18.00 Kerekasztal beszélgetés a 2020-as Nemzetközi Eucharisztikus
  Kongresszus előkészületeiről. Résztvevők: Orosz Atanáz | görögkat
 olikus püspök Berán Ferenc | római katolikus plébános Fábry Kornél 
 | A NEK 2020 titkára (Nemzetközi Eucharisztikus Kongresszus előkészít
  titkára) Gőbel Ágoston[..]\nhttps://momkult.hu/events/kerekasztal-besz
 elgetes-a-2020-as-nemzetkozi-eucharisztikus-kongresszus-elokeszuleteirol/
URL:https://momkult.hu/events/kerekasztal-beszelgetes-a-2020-as-nemzetkozi-eucharisztikus-kongresszus-elokeszuleteirol/
END:VEVENT
END:VCALENDAR