BEGIN:VCALENDAR
VERSION:2.0
PRODID:-//eventon.com NONSGML v1.0//EN
CALSCALE:GREGORIAN
METHOD:PUBLISH
BEGIN:VEVENT
UID:69eb72df79b9d
DTSTAMP:20260424T134047Z
DTSTART:20181127T090000Z
DTEND:20181127T130000Z
LOCATION:
SUMMARY:Fizika Show
DESCRIPTION:A tudomÃ¡ny rÃ©sze a mindennapi Ã©letnek. A gÃ¡zrÃ³zsa mÅ±kÃ¶dÃ
 ©sÃ©rÅ‘l\,  felhÅ‘k keletkezÃ©sÃ©rÅ‘l az Ã©gen\,  az emberekre nehezedÅ‘ le
 vegÅ‘rÅ‘l\,  a tepsiben meggyulladt Ã©gÅ‘ olaj vÃ­zzel valÃ³ eloltÃ¡sÃ¡nak 
 veszÃ©lyeirÅ‘l Ã©s mÃ©g szÃ¡mos\,  a mindennapi Ã©lethez kapcsolÃ³dÃ³ megsz
 okottnak tÅ±nÅ‘ dolgokrÃ³l\,  Ã©s kÃ¼lÃ¶nbÃ¶zÅ‘ jelensÃ©gek magyarÃ¡zatÃ¡rÃ
 ³l hÃ©tkÃ¶znapi kÃ¶zÃ©rthetÅ‘ nyelven tudhat meg Ãºj informÃ¡ciÃ³kat a kÃ¶z
 Ã¶nsÃ©g. Az[..]\nhttps://momkult.hu/events/fizika-show/
URL:https://momkult.hu/events/fizika-show/
END:VEVENT
END:VCALENDAR