BEGIN:VCALENDAR
VERSION:2.0
PRODID:-//eventon.com NONSGML v1.0//EN
CALSCALE:GREGORIAN
METHOD:PUBLISH
BEGIN:VEVENT
UID:69eb9e9a94d5c
DTSTAMP:20260424T164722Z
DTSTART:20181014T093000Z
DTEND:20181014T101500Z
LOCATION:
SUMMARY:A három kismalac
DESCRIPTION:Klasszikus bábok\,  klasszikus mesék. Domi bábszínháza\nht
 tps://momkult.hu/events/a-harom-kismalac-domi-babszinhaza/
URL:https://momkult.hu/events/a-harom-kismalac-domi-babszinhaza/
END:VEVENT
END:VCALENDAR