BEGIN:VCALENDAR
VERSION:2.0
PRODID:-//eventon.com NONSGML v1.0//EN
CALSCALE:GREGORIAN
METHOD:PUBLISH
BEGIN:VEVENT
UID:69ebb20c94ceb
DTSTAMP:20260424T181020Z
DTSTART:20181001T130000Z
DTEND:20181001T143000Z
LOCATION:
SUMMARY:Idősek Világnapja
DESCRIPTION:A Budapesti Show Színház ünnepi műsora az Idősek Világnap
 ja alkalmából &#8211; a Hegyvidéki Önkormányzat és a Hegyvidéki Szoc
 iális Központ zártkörű rendezvénye a 12. kerületben élő idős embe
 rek részére. A program címe: Hazám\,  hazám\,  Te mindenem (A műsorba
 n részletek hangzanak el a Nemzeti Operettgálából)\nhttps://momkult.hu/
 events/idosek-vilagnapja/
URL:https://momkult.hu/events/idosek-vilagnapja/
END:VEVENT
END:VCALENDAR