BEGIN:VCALENDAR
VERSION:2.0
PRODID:-//eventon.com NONSGML v1.0//EN
CALSCALE:GREGORIAN
METHOD:PUBLISH
BEGIN:VEVENT
UID:69eb72df79b9d
DTSTAMP:20260424T134047Z
DTSTART:20181126T190000Z
DTEND:20181126T203000Z
LOCATION:
SUMMARY:Generációk evolúciója | Mérő László és Nemes Orsolya előadása
DESCRIPTION:A biológiai evolúció távolról sem ért véget és a homo s
 apiens evolúciója is folytatódik. A kialakuló új emberfajtát homo inf
 ormaticusnak is hívhatjuk. A változás fő iránya napjainkra már elég 
 jól körvonalazódott\,  érdemes hát szembenézni vele\,  hogyan fog kin
 ézni\,  gondolkozni\,  érezni fajunk néhány évszázad múlva.\nhttps:/
 /momkult.hu/events/generaciok-evolucioja-mero-laszlo-es-nemes-orsolya-eload
 asa/
URL:https://momkult.hu/events/generaciok-evolucioja-mero-laszlo-es-nemes-orsolya-eloadasa/
END:VEVENT
END:VCALENDAR