BEGIN:VCALENDAR
VERSION:2.0
PRODID:-//eventon.com NONSGML v1.0//EN
CALSCALE:GREGORIAN
METHOD:PUBLISH
BEGIN:VEVENT
UID:69eb894059403
DTSTAMP:20260424T151616Z
DTSTART:20181026T183000Z
DTEND:20181026T210000Z
LOCATION:
SUMMARY:Intermezzo
DESCRIPTION:A korábban Jazzy Dalverseny &#8211; győztes zenekar &#8211; i
 mmár egy kiváló énekesnővel kiegészülve &#8211; új\,  saját kompoz
 íciókból álló műsorral jelentkezik. Muzsikájukban a modern groove-ok
 \,  a dallamos zenei témák és az improvizációk egyaránt megtalálhat
 k. &nbsp; Hegyvidéki Smooth Jazz ClubTatár Szidónia &#8211; ének\,  he
 gedű György Ákos &#8211; zongora Centgráf Benjamin &#8211; dobok[..]\nh
 ttps://momkult.hu/events/intermezzo-hegyvideki-smooth-jazz-club/
URL:https://momkult.hu/events/intermezzo-hegyvideki-smooth-jazz-club/
END:VEVENT
END:VCALENDAR