BEGIN:VCALENDAR
VERSION:2.0
PRODID:-//eventon.com NONSGML v1.0//EN
CALSCALE:GREGORIAN
METHOD:PUBLISH
BEGIN:VEVENT
UID:69eb88c05e62b
DTSTAMP:20260424T151408Z
DTSTART:20181030T190000Z
DTEND:20181030T195000Z
LOCATION:
SUMMARY:Mozart | Requiem
DESCRIPTION:A koncerthez kapcsolÃ³dÃ³ rÃ¡diÃ³szpot Requiem in D minor\,  K.
  626 | Ars Nova Sacra Ã‰nekegyÃ¼ttes A mÅ±sor hossza 50 perc\,  szÃ¼net nÃ©
 lkÃ¼l Horti Lilla &#8211; szoprÃ¡n Bojta Zsuzsanna &#8211; alt KomÃ¡romi MÃ
 ¡rton &#8211; tenor KovÃ¡cs PÃ©ter &#8211; basszus Ars Nova Sacra Ã‰nekegyÃ
 ¼ttes (KarigazgatÃ³ | Dr. RÃ©pÃ¡ssy DÃ©nes) Concerto Kamarazenekar (MÅ±vÃ©s
 zeti[..]\nhttps://momkult.hu/events/ars-nova-sacra-enekegyuttes/
URL:https://momkult.hu/events/ars-nova-sacra-enekegyuttes/
END:VEVENT
END:VCALENDAR