BEGIN:VCALENDAR
VERSION:2.0
PRODID:-//eventon.com NONSGML v1.0//EN
CALSCALE:GREGORIAN
METHOD:PUBLISH
BEGIN:VEVENT
UID:69eb9e3e4ddaa
DTSTAMP:20260424T164550Z
DTSTART:20181018T170000Z
DTEND:20181018T183000Z
LOCATION:
SUMMARY:„Börtönéből szabadúlt sas lelkem…” ­ – A táj és a természet.
DESCRIPTION:Párbeszédes előadásainkon a magyar és egyetemes művészet
  nagy témaköreit tekintjük át a klasszikus irodalmi és képzőművész
 eti műfajokon keresztül. Előadásainkon szó lesz történelemről\,  sz
 erelemről\,  ellentétekről\,  szegényekről és gazdagokról\,  a term
 szet változó jelentéseiről\,  s természetesen a művész önmagáról
  alkotott képéről is. Naplók\,  eposzok\,  önarcképek\,  csendéletek
 \,  himnuszok és még sok minden más. Egy[..]\nhttps://momkult.hu/events/
 bortonebol-szabadult-sas-lelkem-a-taj-es-a-termeszet/
URL:https://momkult.hu/events/bortonebol-szabadult-sas-lelkem-a-taj-es-a-termeszet/
END:VEVENT
END:VCALENDAR