BEGIN:VCALENDAR
VERSION:2.0
PRODID:-//eventon.com NONSGML v1.0//EN
CALSCALE:GREGORIAN
METHOD:PUBLISH
BEGIN:VEVENT
UID:69ec1bf93d594
DTSTAMP:20260425T014217Z
DTSTART:20180915T100000Z
DTEND:20180915T110000Z
LOCATION:
SUMMARY:Agatha Christie Magyar Hangjai
DESCRIPTION:A fesztivál Agatha Christie magyar hangjai c. kerekasztal-besz
 élgetéssel nyílik meg a MOM Kulturális Központ kupolatermében. A megn
 yitó keretében őexcellenciája\,  Iain Lindsay brit nagykövet a fesztiv
 ál fővédnöke köszönti az egybegyűlteket. A fesztivál védnökeként
  vendég lesz Sztanyó István rendőralezredes\,  a Budapest XII. kerület
 i rendőrkapitányság vezetője. A kerekasztal-beszélgetés ideje alatt a
  továbbiakban kedvenc[..]\nhttps://momkult.hu/events/agatha-christie-magya
 r-hangjai/
URL:https://momkult.hu/events/agatha-christie-magyar-hangjai/
END:VEVENT
END:VCALENDAR