BEGIN:VCALENDAR
VERSION:2.0
PRODID:-//eventon.com NONSGML v1.0//EN
CALSCALE:GREGORIAN
METHOD:PUBLISH
BEGIN:VEVENT
UID:69eb88b68de38
DTSTAMP:20260424T151358Z
DTSTART:20181109T190000Z
DTEND:20181109T203000Z
LOCATION:
SUMMARY:Streisand | PolyÃ¡k Lilla\,  SzulÃ¡k Andrea\,  NÃ¡rai Erika
DESCRIPTION:Semmihez sem hasonlÃ­thatÃ³ hang\,  felÃ¼lmÃºlhatatlan\,  kÃ¼lÃ
 ¶nleges Ã©s sokoldalÃº nÅ‘ â€“ Barbra Streisand. Ã–rÃ¶kzÃ¶ld dallamait hÃ¡r
 om dÃ­va tolmÃ¡csolÃ¡sÃ¡ban hallhatjuk.Â  A szÃ­npadon SzulÃ¡k Andrea\,  NÃ
 ¡rai Erika Ã©s PolyÃ¡k Lilla. KÃ¶zremÅ±kÃ¶dik a Studio11 Ensemble Ã©s a Bud
 apest Chamber Orchestra Karmester â€“ SillÃ³ IstvÃ¡n Zenei vezetÅ‘ â€“ TÃ³t
 h Gyula ProdukciÃ³s vezetÅ‘ â€“ Balatoni Bernadett\nhttps://momkult.hu/even
 ts/streisand-polyak-lilla-szulak-andrea-narai-erika/
URL:https://momkult.hu/events/streisand-polyak-lilla-szulak-andrea-narai-erika/
END:VEVENT
END:VCALENDAR