BEGIN:VCALENDAR
VERSION:2.0
PRODID:-//eventon.com NONSGML v1.0//EN
CALSCALE:GREGORIAN
METHOD:PUBLISH
BEGIN:VEVENT
UID:69e745b5900f4
DTSTAMP:20260421T093901Z
DTSTART:20240514T170000Z
DTEND:20240514T183000Z
LOCATION:
SUMMARY:Élj szívből!
DESCRIPTION:\, \, Az Élj szívből! előadásomban a cím bár egy felszó
 lítás\,  valójában csak egy választási lehetőség. Nagyon sok ember 
 az életét agyból közelíti meg és egy idő után csodálkozik\,  mert 
 nem érzi azt\,  hogy élne\,  nem érzi azt\,  hogy boldog lenne. Bár az 
 anyagi lehetőségein belül látszólag minden rendben van\,  valami mégs
 em[..]\nhttps://momkult.hu/events/elj-szivbol-2/
URL:https://momkult.hu/events/elj-szivbol-2/
END:VEVENT
END:VCALENDAR