BEGIN:VCALENDAR
VERSION:2.0
PRODID:-//eventon.com NONSGML v1.0//EN
CALSCALE:GREGORIAN
METHOD:PUBLISH
BEGIN:VEVENT
UID:69ebb20c94ceb
DTSTAMP:20260424T181020Z
DTSTART:20181004T183000Z
DTEND:20181004T210000Z
LOCATION:
SUMMARY:Marionnaud NőComment!
DESCRIPTION:A NőComment! egy rendhagyó talkshow-sorozat hazai sztárok r
 szvételével\,  amely túlmutat a hagyományos női témákon. Szereplők
 : Ábel Anita Gryllus Dorka Hernádi Judit Kiss Orsolya Liptai Claudia Erny
 ey Béla Schiffer Miklós és a civil szál: László Nicole A szereplők e
 lőre nem tervezhető televíziós elfoglaltságai miatt a műsorváltoztat
 ás jogát fenntartjuk!\nhttps://momkult.hu/events/marionnaud-nocomment/
URL:https://momkult.hu/events/marionnaud-nocomment/
END:VEVENT
END:VCALENDAR