BEGIN:VCALENDAR
VERSION:2.0
PRODID:-//eventon.com NONSGML v1.0//EN
CALSCALE:GREGORIAN
METHOD:PUBLISH
BEGIN:VEVENT
UID:69ebb0f61831d
DTSTAMP:20260424T180542Z
DTSTART:20180930T153000Z
DTEND:20180930T163000Z
LOCATION:
SUMMARY:Söndörgő
DESCRIPTION:A Söndörgő zenekar tagjai több mint 20 éve zenélnek együ
 tt. A délszláv és balkáni zenei hagyományokat ápolva teremtették meg
  saját stílusukat és bővítették ki tambura zenekarukat számos továb
 bi hangszerrel. Zenéjük más balkáni zenét játszó zenekaréhoz nem h
 asonlítható\,  virtuóz és lendületes. Az együttes többször turnézo
 tt már Indiában\,  Amerikában illetve a londoni Queen[..]\nhttps://momku
 lt.hu/events/sondorgo/
URL:https://momkult.hu/events/sondorgo/
END:VEVENT
END:VCALENDAR