BEGIN:VCALENDAR
VERSION:2.0
PRODID:-//eventon.com NONSGML v1.0//EN
CALSCALE:GREGORIAN
METHOD:PUBLISH
BEGIN:VEVENT
UID:69ebf5e8cdf35
DTSTAMP:20260424T225952Z
DTSTART:20180916T160000Z
DTEND:20180916T170000Z
LOCATION:
SUMMARY:Délutáni Tea
DESCRIPTION:Az öt óra tradicionális teaszerviz alkalmával\,  Miss Marpl
 e szalonjában porcelán csészében felszolgált tea mellé szendvicset é
 s hagyományos angol süteményeket kóstolhatnak az érdeklődők. A tea i
 deje alatt az Opus vonósnégyes játszik a szalon vendégeinek. Délutáni
  tea menü személyenként: egy kannányi tea\,  három teaszendvics\,  ké
 t scone\,  három teasütemény. (Az 1-8. számú asztaloknál[..]\nhttps:/
 /momkult.hu/events/delutani-tea-2/
URL:https://momkult.hu/events/delutani-tea-2/
END:VEVENT
END:VCALENDAR