BEGIN:VCALENDAR
VERSION:2.0
PRODID:-//eventon.com NONSGML v1.0//EN
CALSCALE:GREGORIAN
METHOD:PUBLISH
BEGIN:VEVENT
UID:69ebf61b56dc3
DTSTAMP:20260424T230043Z
DTSTART:20180916T120000Z
DTEND:20180916T163000Z
LOCATION:
SUMMARY:Alkotóműhely
DESCRIPTION:Vasárnap délutáni alkotóműhelyen minialbum készíthető E
 ke-Ranga Zsófiával\,  a NőiCsizma Design kreatív tagjával. A NőiCsizm
 a Design scrapbook alkotóműhelyében megörökítheti egy-egy regényhez 
 kapcsolódó olvasmányos élményét\,  albumba foglalhatja azt\,  vagy fo
 tózkodhat a helyszínen berendezett korhű fotóstúdióban. Agatha Christ
 ie Fesztivál\nhttps://momkult.hu/events/alkotomuhely-2/
URL:https://momkult.hu/events/alkotomuhely-2/
END:VEVENT
END:VCALENDAR