BEGIN:VCALENDAR
VERSION:2.0
PRODID:-//eventon.com NONSGML v1.0//EN
CALSCALE:GREGORIAN
METHOD:PUBLISH
BEGIN:VEVENT
UID:69ec09e394be9
DTSTAMP:20260425T002507Z
DTSTART:20180915T120000Z
DTEND:20180915T163000Z
LOCATION:
SUMMARY:Alkotóműhely
DESCRIPTION:A szombat délutáni alkotóműhelyben shadowbox készíthető 
 a NőiCsizma Design alapítójával\,  Csizmadia-Fáth Edittel. A NőiCsizm
 a Design scrapbook alkotóműhelyében megörökítheti egy-egy regényhez 
 kapcsolódó olvasmányos élményét\,  albumba foglalhatja azt\,  vagy fo
 tózkodhat a helyszínen berendezett korhű fotóstúdióban. Agatha Christ
 ie Fesztivál\nhttps://momkult.hu/events/alkotomuhely/
URL:https://momkult.hu/events/alkotomuhely/
END:VEVENT
END:VCALENDAR