BEGIN:VCALENDAR
VERSION:2.0
PRODID:-//eventon.com NONSGML v1.0//EN
CALSCALE:GREGORIAN
METHOD:PUBLISH
BEGIN:VEVENT
UID:69ebf6303874d
DTSTAMP:20260424T230104Z
DTSTART:20180916T120000Z
DTEND:20180916T134000Z
LOCATION:
SUMMARY:Halál a Níluson
DESCRIPTION:magyarul beszélő\,  angol krimi\,  100 perc\,  2004\,  12 é
 ven aluliak számára nem ajánlott Jacqueline de Bellefort\,  a temperamen
 tumos és okos fiatal nő jegyben jár Simon Doyle-lal. Simon tisztességes
  és szeretetreméltó fiatalember\,  csak egy valami hiányzik nála – a
  pénz. Amikor Simont kiteszik az állásából\,  Jackie úgy dönt\,  egy
  régi iskolatársa\,  a[..]\nhttps://momkult.hu/events/halal-a-niluson/
URL:https://momkult.hu/events/halal-a-niluson/
END:VEVENT
END:VCALENDAR