BEGIN:VCALENDAR
VERSION:2.0
PRODID:-//eventon.com NONSGML v1.0//EN
CALSCALE:GREGORIAN
METHOD:PUBLISH
BEGIN:VEVENT
UID:69ebf6303874d
DTSTAMP:20260424T230104Z
DTSTART:20180916T100000Z
DTEND:20180916T114000Z
LOCATION:
SUMMARY:Az ABC-gyilkosságok
DESCRIPTION:magyarul beszélő\,  angol krimi\,  103 perc\,  1992\,  12 é
 ven aluliak számára nem ajánlott Monsieur Poirot levelet kapott “ABC
  aláírással\,  mely meghívó egy leendő gyilkosság helyszínére. Mi
 nden az írottak szerint történik: az adott időben meghal Mrs. Alice Asc
 her\,  Andover városában. Később egy újabb levél érkezik\,  s a benn
 e írtaknak megfelelően egy B-betűs[..]\nhttps://momkult.hu/events/az-abc
 -gyilkossagok/
URL:https://momkult.hu/events/az-abc-gyilkossagok/
END:VEVENT
END:VCALENDAR