BEGIN:VCALENDAR
VERSION:2.0
PRODID:-//eventon.com NONSGML v1.0//EN
CALSCALE:GREGORIAN
METHOD:PUBLISH
BEGIN:VEVENT
UID:69ec1b7c36909
DTSTAMP:20260425T014012Z
DTSTART:20180915T140000Z
DTEND:20180915T154000Z
LOCATION:
SUMMARY:Egy marék rozs
DESCRIPTION:magyarul beszélő\,  angol-amerikai-ausztrál krimi\,  103 pe
 rc\,  1985\,  12 éven aluliak számára nem ajánlott Klasszikus bűnügyi
  történet a krimi királynőjének tollából. Miss Marple\,  az idős\, 
  ám pengeéles észjárással megáldott hölgy a kötőtűk csattogtatás
 a közben számtalan rejtély kulcsát találja meg. A kedves\,  de tántor
 íthatatlan Miss Jane Marple szerepében Joan Hickson. A gazdag üzletember
 \, [..]\nhttps://momkult.hu/events/egy-marek-rozs/
URL:https://momkult.hu/events/egy-marek-rozs/
END:VEVENT
END:VCALENDAR