BEGIN:VCALENDAR
VERSION:2.0
PRODID:-//eventon.com NONSGML v1.0//EN
CALSCALE:GREGORIAN
METHOD:PUBLISH
BEGIN:VEVENT
UID:69ec092022ce4
DTSTAMP:20260425T002152Z
DTSTART:20180915T120000Z
DTEND:20180915T134500Z
LOCATION:
SUMMARY:Nemezis
DESCRIPTION:magyarul beszélő\,  angol krimi\,  102 perc\,  1987\,  12 é
 ven aluliak számára nem ajánlott Az idős\,  ám pengeéles észjáráss
 al megáldott Miss Marple levelet kap az elhunyt milliomos\,  Jason Rafiel 
 ügyvédjétől\,  amelyben arra kérik fel\,  hogy nyomozzon ki egy felté
 telezett bűntényt\,  amely után sem bűnjel\,  sem másféle nyom nem ma
 radt. Mint a levélből[..]\nhttps://momkult.hu/events/nemezis/
URL:https://momkult.hu/events/nemezis/
END:VEVENT
END:VCALENDAR