BEGIN:VCALENDAR
VERSION:2.0
PRODID:-//eventon.com NONSGML v1.0//EN
CALSCALE:GREGORIAN
METHOD:PUBLISH
BEGIN:VEVENT
UID:69ebf80da7d54
DTSTAMP:20260424T230901Z
DTSTART:20180916T163000Z
DTEND:20180916T200000Z
LOCATION:
SUMMARY:Crime Swing | Garden Party
DESCRIPTION:VasÃ¡rnap a fesztivÃ¡l zÃ¡rÃ¡sakÃ©ntÂ  garden party kerÃ¼l megr
 endezÃ©sre a MOM KulturÃ¡lis KÃ¶zpont hangulatos belsÅ‘ kertjÃ©ben. A Momku
 lt teraszÃ¡nÂ Agatha Christie kedvenc fogÃ¡saibÃ³lÂ Â fogadÃ¡son vehetnek r
 Ã©szt\,  melyet Zoboki ZoltÃ¡n mesterszakÃ¡cs a Pane Vino Ã©tterem chefje Ã
 ¡llÃ­t Ã¶ssze. [ElÅ‘Ã©tel â€“ MarhahÃºs tea cheddaros vargÃ¡nyÃ¡s fÃ¡nkkal 
 FÅ‘Ã©tel â€“ BÃ¡rÃ¡nygerinc mentaszÃ³sszal\,  vajas zÃ¶ldsÃ©gekkel Desszert
  â€“ Ribizlis[..]\nhttps://momkult.hu/events/crime-swing-garden-party-agath
 a-christie-fesztival/
URL:https://momkult.hu/events/crime-swing-garden-party-agatha-christie-fesztival/
END:VEVENT
END:VCALENDAR