BEGIN:VCALENDAR
VERSION:2.0
PRODID:-//eventon.com NONSGML v1.0//EN
CALSCALE:GREGORIAN
METHOD:PUBLISH
BEGIN:VEVENT
UID:69e745ed33d83
DTSTAMP:20260421T093957Z
DTSTART:20240315T190000Z
DTEND:20240315T211000Z
LOCATION:
SUMMARY:Leander Szimfonik
DESCRIPTION:Leander Szimfonik: A Leander Kills és az Amigod zenekarokból 
 is ismert\,  Fonogram-díjas Köteles Leander harmincharmadik születésnap
 ján – 2018. március 15-én &#8211; különleges ünnepi koncertet adott
 \,  ahol legjobb dalainak Pejtsik Péter által készített klasszikus zene
 i átiratait adta elő nagyzenekari kísérettel\,  valamint a nemzeti ünn
 ep tiszteletére elénekelte a Hazám\,  hazám című áriát\, [..]\nhttp
 s://momkult.hu/events/leander-szimfonik-2/
URL:https://momkult.hu/events/leander-szimfonik-2/
END:VEVENT
END:VCALENDAR