BEGIN:VCALENDAR
VERSION:2.0
PRODID:-//eventon.com NONSGML v1.0//EN
CALSCALE:GREGORIAN
METHOD:PUBLISH
BEGIN:VEVENT
UID:69ebb43804f63
DTSTAMP:20260424T181936Z
DTSTART:20181001
DTEND:20181002
LOCATION:
SUMMARY:Galápagos-szigetek
DESCRIPTION:A nagyvilágban utazni\,  új tájakat felfedezni\,  új embere
 ket és más kultúrákat megismerni az egyik legjobb dolog\,  amit kaphatu
 nk az élettől\,  ami történhet velünk. Kleb Attila fotósnak 2018. feb
 ruárjában sikerült eljutnia egy\,  a bakancslistáján lévő helyre\,  
 Ecuadorba és azon belül a Galápagos-szigetekre is. A most kiállításra
  kerülő képeivel a szigetvilág egy[..]\nhttps://momkult.hu/events/galap
 agos-szigetek-kiallitas-kleb-attila-fotoibol/
URL:https://momkult.hu/events/galapagos-szigetek-kiallitas-kleb-attila-fotoibol/
END:VEVENT
END:VCALENDAR