BEGIN:VCALENDAR
VERSION:2.0
PRODID:-//eventon.com NONSGML v1.0//EN
CALSCALE:GREGORIAN
METHOD:PUBLISH
BEGIN:VEVENT
UID:69eb8ff5f240f
DTSTAMP:20260424T154453Z
DTSTART:20181027T160000Z
DTEND:20181027T173000Z
LOCATION:
SUMMARY:VilÃ¡gÃ¶rÃ¶ksÃ©gÃ¼nk zenÃ©be foglalva
DESCRIPTION:Egy kÃ¼lÃ¶nleges kultÃºrtÃ¶rtÃ©neti sÃ©taÂ az Unesco Ã¡ltal vil
 Ã¡gÃ¶rÃ¶ksÃ©ggÃ© nyilvÃ¡nÃ­tott helyszÃ­nek felidÃ©zÃ©sÃ©vel Ã©s a hozzÃ¡ju
 k kapcsolÃ³dÃ³ zenÃ©kkel. KÃ¶zremÅ±kÃ¶dnek |Â A Solti GyÃ¶rgy Zeneiskola nÃ
 ¶vendÃ©kei\,  mÅ±vÃ©sztanÃ¡rai Ã©s LeÃ¡nykara KarigazgatÃ³ |Â Zulauf Emese 
 Az elÅ‘adÃ¡s mÅ±vÃ©szeti vezetÅ‘je Ã©s hÃ¡zigazdÃ¡ja |Â Bolyky ZoltÃ¡n\nhtt
 ps://momkult.hu/events/vilagoroksegunk-zenebe-foglalva/
URL:https://momkult.hu/events/vilagoroksegunk-zenebe-foglalva/
END:VEVENT
END:VCALENDAR