BEGIN:VCALENDAR
VERSION:2.0
PRODID:-//eventon.com NONSGML v1.0//EN
CALSCALE:GREGORIAN
METHOD:PUBLISH
BEGIN:VEVENT
UID:69eb0f5505f5a
DTSTAMP:20260424T063605Z
DTSTART:20190208T190000Z
DTEND:20190208T203000Z
LOCATION:
SUMMARY:Molnár Dixieland Band
DESCRIPTION:A szegedi Molnár Dixieland Band 1964-ben alakult\,  azóta fol
 yamatosan koncerteznek belföldön és külföldön egyaránt. Az együttes
  2019-ben lesz 55 éves\,  az alapító zenekar vezető Dr. Molnár Gyula 2
 019 januárjában ünnepli 75. születésnapját\,  így az együttes kéts
 zeresen jubilál. Az élettelteli\,  örömérzést és vidámságot sugár
 zó stílusáról ismert zenekar a kettős jubileumról két[..]\nhttps://m
 omkult.hu/events/molnar-dixieland-band-jubileumi-75-galakoncert-kettos-jubi
 leum/
URL:https://momkult.hu/events/molnar-dixieland-band-jubileumi-75-galakoncert-kettos-jubileum/
END:VEVENT
END:VCALENDAR