BEGIN:VCALENDAR
VERSION:2.0
PRODID:-//eventon.com NONSGML v1.0//EN
CALSCALE:GREGORIAN
METHOD:PUBLISH
BEGIN:VEVENT
UID:69eb7341489b8
DTSTAMP:20260424T134225Z
DTSTART:20181128T190000Z
DTEND:20181128T203000Z
LOCATION:
SUMMARY:HABANA SOCIAL CLUB with the Stars of TROPICANA
DESCRIPTION:A kubai mulatók forró\,  szivarfüstös éjszakáinak sztárj
 a\,  a kubai nép elsőszámú kedvence\,  a HABANA SOCIAL CLUB zenekar a 2
 018-as világ körüli turnéjára kiegészült a világhírű Tropicana Cl
 ub szólótáncosaival. A zenekar különleges műsorral várja mindazokat 
 az igazi karibi élményre\,  kubai életérzésre vágynak.\nhttps://momku
 lt.hu/events/habana-social-club-with-the-stars-of-tropicana-2/
URL:https://momkult.hu/events/habana-social-club-with-the-stars-of-tropicana-2/
END:VEVENT
END:VCALENDAR