BEGIN:VCALENDAR
VERSION:2.0
PRODID:-//eventon.com NONSGML v1.0//EN
CALSCALE:GREGORIAN
METHOD:PUBLISH
BEGIN:VEVENT
UID:69ebb3b61efea
DTSTAMP:20260424T181726Z
DTSTART:20180925T190000Z
DTEND:20180925T203000Z
LOCATION:
SUMMARY:Romengo est a Mendelssohn Kamarazenekarral
DESCRIPTION:A Mendelssohn Kamarazenekar 1985 óta a legkiválóbb hazai é
 s külföldi szólistákkal\,  karmesterekkel lépett fel együtt. Közös 
 produkciót mutatott be a Győri Balettel\,  s számos oratorikus művet ad
 ott elő magyar\,  illetve külföldi koncertkórusokkal. Több turnén vet
 t részt Európa-szerte\,  valamint Észak-\,  Közép- és Dél-Amerikába
 n\,  a világ nagy koncerttermeiben álltak színpadra. Az együttes nyitot
 tságára[..]\nhttps://momkult.hu/events/romengo-est-a-mendelssohn-kamaraze
 nekarral/
URL:https://momkult.hu/events/romengo-est-a-mendelssohn-kamarazenekarral/
END:VEVENT
END:VCALENDAR