BEGIN:VCALENDAR
VERSION:2.0
PRODID:-//eventon.com NONSGML v1.0//EN
CALSCALE:GREGORIAN
METHOD:PUBLISH
BEGIN:VEVENT
UID:69e5fb2a21747
DTSTAMP:20260420T100842Z
DTSTART:20231109T180000Z
DTEND:20231109T193000Z
LOCATION:
SUMMARY:Clauságok - Liptai Claudia önálló teste
DESCRIPTION:Liptai Claudia idén nyáron indította első önálló színpa
 di estjének turnéját\,  aminek budapesti állomása a MOMkult lesz. Clau
 ságok című műsorról az előadó így írt: – Liptai Claudia? Persze
 \,  hogy tudom ki. Olvastam róla vagy száz cikket\,  láttam a tévében.
  Mióta csinálja? 10 éve? Dehogy legalább 25. Atyavilág az nem lehet\, 
  hát én[..]\nhttps://momkult.hu/events/clausagok-liptai-claudia-onallo-te
 ste/
URL:https://momkult.hu/events/clausagok-liptai-claudia-onallo-teste/
END:VEVENT
END:VCALENDAR