BEGIN:VCALENDAR
VERSION:2.0
PRODID:-//eventon.com NONSGML v1.0//EN
CALSCALE:GREGORIAN
METHOD:PUBLISH
BEGIN:VEVENT
UID:69ebf8a26dc5f
DTSTAMP:20260424T231130Z
DTSTART:20180923T093000Z
DTEND:20180923T101500Z
LOCATION:
SUMMARY:Zsuzska\,  Gyurka és a zsugori gazda
DESCRIPTION:Klasszikus bábok\,  klasszikus mesék. 4 éves kortól ajánlo
 tt. bábjáték és bohóctréfák | Domi Bábszínháza\nhttps://momkult.h
 u/events/zsuzska-gyurka-es-a-zsugori-gazda-babjatek-es-bohoctrefak-domi-bab
 szinhaza/
URL:https://momkult.hu/events/zsuzska-gyurka-es-a-zsugori-gazda-babjatek-es-bohoctrefak-domi-babszinhaza/
END:VEVENT
END:VCALENDAR