BEGIN:VCALENDAR
VERSION:2.0
PRODID:-//eventon.com NONSGML v1.0//EN
CALSCALE:GREGORIAN
METHOD:PUBLISH
BEGIN:VEVENT
UID:69e5fa96dd3da
DTSTAMP:20260420T100614Z
DTSTART:20231110T180000Z
DTEND:20231110T193000Z
LOCATION:
SUMMARY:Elvarratlan szálak - Dr. Almási Kitti előadása Budapesten
DESCRIPTION:A magyarázat nélkül\,  vagy valamilyen fájdalmas élménnye
 l záruló meghatározó emberi kapcsolataink kiemelt jelentőséggel bírn
 ak\,  befolyásoló erejűek abban\,  ahogyan magunkról gondolkodunk.Élet
 ünk során számos olyan tapasztalatot szerzünk\,  mely hatással van az 
 életvezetésünkre\,  meghatározza félelmeinket vagy vágyainkat\,  és 
 azt is\,  miként reagálunk egyes helyzetekben.Amennyiben nem jutunk el ad
 dig\,  hogy egy-egy konfliktust\,  vagy veszteséget[..]\nhttps://momkult.h
 u/events/elvarratlan-szalak-dr-almasi-kitti-eloadasa-budapesten/
URL:https://momkult.hu/events/elvarratlan-szalak-dr-almasi-kitti-eloadasa-budapesten/
END:VEVENT
END:VCALENDAR