BEGIN:VCALENDAR
VERSION:2.0
PRODID:-//eventon.com NONSGML v1.0//EN
CALSCALE:GREGORIAN
METHOD:PUBLISH
BEGIN:VEVENT
UID:69e745ba21755
DTSTAMP:20260421T093906Z
DTSTART:20220516T170000Z
DTEND:20220516T180000Z
LOCATION:
SUMMARY:ARIZONA
DESCRIPTION:Azon programoknál\,  ahol a helyszín sajátosságai miatt nem
  tartható a látogatók közötti másfél méter\,  továbbra is ajánlju
 k a maszk viselését. ____________________________________________________
 ___________________________________ Az Arizona &#8211; tangó a mulatóban 
 című táncelőadás a 30-as évek legendás mulatójának a Nagymező utc
 ai Arizóna bárnak kulisszatitkairól mesél. A történet az egyik legsze
 nvedélyesebb táncról az Arizona színpadán[..]\nhttps://momkult.hu/even
 ts/arizona/
URL:https://momkult.hu/events/arizona/
END:VEVENT
END:VCALENDAR