BEGIN:VCALENDAR
VERSION:2.0
PRODID:-//eventon.com NONSGML v1.0//EN
CALSCALE:GREGORIAN
METHOD:PUBLISH
BEGIN:VEVENT
UID:69e9d7c544bde
DTSTAMP:20260423T082645Z
DTSTART:20220611T170000Z
DTEND:20220611T190000Z
LOCATION:
SUMMARY:27. TABÁN EST
DESCRIPTION:Azon programoknál\,  ahol a helyszín sajátosságai miatt nem
  tartható a látogatók közötti másfél méter\,  továbbra is ajánlju
 k a maszk viselését. ____________________________________________________
 ___________________________________ A Tabán Szerb Folklór Egyesület 1994
 -ben alakult Budapesten\,  azzal a céllal\,  hogy megőrizze a különböz
 ő autentikus táncokat\,  népdalokat és a szerb hagyományokat. A táncc
 soport lelkes elhivatottságát\,  repertoárjának sokszínűsége is[..]\
 nhttps://momkult.hu/events/27-taban-est/
URL:https://momkult.hu/events/27-taban-est/
END:VEVENT
END:VCALENDAR