BEGIN:VCALENDAR
VERSION:2.0
PRODID:-//eventon.com NONSGML v1.0//EN
CALSCALE:GREGORIAN
METHOD:PUBLISH
BEGIN:VEVENT
UID:69e9d76999543
DTSTAMP:20260423T082513Z
DTSTART:20220524T170000Z
DTEND:20220524T183000Z
LOCATION:
SUMMARY:HELLO\,  WMN!
DESCRIPTION:Azon programoknÃ¡l\,  ahol a helyszÃ­n sajÃ¡tossÃ¡gai miatt nem
  tarthatÃ³ a lÃ¡togatÃ³k kÃ¶zÃ¶tti mÃ¡sfÃ©l mÃ©ter\,  tovÃ¡bbra is ajÃ¡nlju
 k a maszk viselÃ©sÃ©t. ____________________________________________________
 ___________________________________ BeszÃ©lgetÅ‘s este a WMN alkotÃ³ival Ã©
 s meghÃ­vott vendÃ©geikkel KÃ©rem\,  vigyÃ¡zzanak\,  a kapuk zÃ¡rÃ³dnak! â€
 “ Mit kezdesz magaddal az Ã©leted kÃ¶zepÃ©n? A mid life crises (Ã©letkÃ¶zep
 i vÃ¡lsÃ¡g) tÃ©mÃ¡jÃ¡t jÃ¡rjÃ¡k kÃ¶rbe[..]\nhttps://momkult.hu/events/hello
 -wmn-6/
URL:https://momkult.hu/events/hello-wmn-6/
END:VEVENT
END:VCALENDAR