BEGIN:VCALENDAR
VERSION:2.0
PRODID:-//eventon.com NONSGML v1.0//EN
CALSCALE:GREGORIAN
METHOD:PUBLISH
BEGIN:VEVENT
UID:69e7460157449
DTSTAMP:20260421T094017Z
DTSTART:20220519T170000Z
DTEND:20220519T190000Z
LOCATION:
SUMMARY:VISZONYLAGOS ÖRÖKLÉT #5
DESCRIPTION:Azon programoknál\,  ahol a helyszín sajátosságai miatt nem
  tartható a látogatók közötti másfél méter\,  továbbra is ajánlju
 k a maszk viselését. ____________________________________________________
 ___________________________________ A NEMES NAGY ÁGNES 100 CENTENÁRIUMI R
 ENDEZVÉNYSOROZAT ÖTÖDIK ESEMÉNYE 2022-ben Nemes Nagy Ágnes Kossuth-dí
 jas költő születésének századik évfordulójának tiszteletére a Pet
 őfi Kulturális Ügynökség és a Petőfi Irodalmi Múzeum Juhász[..]\nh
 ttps://momkult.hu/events/viszonylagos-oroklet-5/
URL:https://momkult.hu/events/viszonylagos-oroklet-5/
END:VEVENT
END:VCALENDAR