BEGIN:VCALENDAR
VERSION:2.0
PRODID:-//eventon.com NONSGML v1.0//EN
CALSCALE:GREGORIAN
METHOD:PUBLISH
BEGIN:VEVENT
UID:69e9d72c07522
DTSTAMP:20260423T082412Z
DTSTART:20220529T140000Z
DTEND:20220529T170000Z
LOCATION:
SUMMARY:NOSZTALGIA TÁRSASTÁNC
DESCRIPTION:Minden alkalommal táncbemutató nyugdíjas\,  amatőr táncoso
 kkal. Standard táncok\,  latin táncok\,  swing\,  rock ’n’ roll. Idő
 pontok: 2022. május 29. 16.00-19.00 2022. június 19. 16.00-19.00 Elérhet
 őség: 06 30 231 7043\,  06 1 202 1739 Táncbemutatók között és után:
  össztánc! Tánc nosztalgikus dallamokra\nhttps://momkult.hu/events/noszt
 algia-tarsastanc-2022/
URL:https://momkult.hu/events/nosztalgia-tarsastanc-2022/
END:VEVENT
END:VCALENDAR