BEGIN:VCALENDAR
VERSION:2.0
PRODID:-//eventon.com NONSGML v1.0//EN
CALSCALE:GREGORIAN
METHOD:PUBLISH
BEGIN:VEVENT
UID:69e75cebf03c9
DTSTAMP:20260421T111803Z
DTSTART:20220417T090000Z
DTEND:20220417T100000Z
LOCATION:
SUMMARY:JÓTÉKONYSÁGI ADOMÁNYGYŰJTÉS AZ UKRAJNAI HÁBORÚS MENEKÜLTEK JAVÁRA
DESCRIPTION:Azon programoknál\,  ahol a helyszín sajátosságai miatt nem
  tartható a látogatók közötti másfél méter\,  továbbra is ajánlju
 k a maszk viselését. ____________________________________________________
 ___________________________________ Adományozni lehet a helyszínen lévő
  adományozó pultnál\,  vagy az Aura Egyesület Bankszámlájára: 101020
 93-59340400-01000004 A közleménybe kérjük beírni: menekültadomány A 
 beérkezett adományokat a Hegyvidék Önkormányzat Menekültsegítő Csop
 ortja számára utaljuk tovább[..]\nhttps://momkult.hu/events/jotekonysagi
 -adomanygyujtes-az-ukrajnai-haborus-menekultek-javara/
URL:https://momkult.hu/events/jotekonysagi-adomanygyujtes-az-ukrajnai-haborus-menekultek-javara/
END:VEVENT
END:VCALENDAR