BEGIN:VCALENDAR
VERSION:2.0
PRODID:-//eventon.com NONSGML v1.0//EN
CALSCALE:GREGORIAN
METHOD:PUBLISH
BEGIN:VEVENT
UID:69e75b2599736
DTSTAMP:20260421T111029Z
DTSTART:20220413T160000Z
DTEND:20220413T180000Z
LOCATION:
SUMMARY:HITEL-EST LAPSZÁMBEMUTATÓ
DESCRIPTION:Azon programoknál\,  ahol a helyszín sajátosságai miatt nem
  tartható a látogatók közötti másfél méter\,  továbbra is ajánlju
 k a maszk viselését. ____________________________________________________
 ___________________________________ A Hitel folyóirat lapszámbemutató es
 tje. Támogatók: Emberi Erőforrások Minisztériuma\,  Nemzeti Kulturáli
 s Alap\,  Magyar Művészeti Akadémia\,  Petőfi Kulturális Ügynökség 
 Hangpróba I Fiatal írók bemutatkozásaBaráth Tibor Izer Janka Locker D
 vid Ludmán[..]\nhttps://momkult.hu/events/hitel-est-lapszambemutato/
URL:https://momkult.hu/events/hitel-est-lapszambemutato/
END:VEVENT
END:VCALENDAR