BEGIN:VCALENDAR
VERSION:2.0
PRODID:-//eventon.com NONSGML v1.0//EN
CALSCALE:GREGORIAN
METHOD:PUBLISH
BEGIN:VEVENT
UID:69e75b2599736
DTSTAMP:20260421T111029Z
DTSTART:20220426T170000Z
DTEND:20220426T190000Z
LOCATION:
SUMMARY:HELLO\,  WMN! ÉLŐBEN\,  A SZÍNPADON I Harcolsz vagy menekülsz
DESCRIPTION:Azon programoknál\,  ahol a helyszín sajátosságai miatt nem
  tartható a látogatók közötti másfél méter\,  továbbra is ajánlju
 k a maszk viselését. ____________________________________________________
 ___________________________________ Megküzdeni\,  túlélni\,  harcolni\, 
  mintha másból sem állna az életünk. Harctér a párkapcsolat\,  a mun
 kahely\,  a közélet\,  a társadalom. A mindennapjainkat átszövi az agg
 ódás\,  a szorongás\,  az erőszak különböző formái.[..]\nhttps://m
 omkult.hu/events/hello-wmn-eloben-a-szinpadon-i-harcolsz-vagy-menekulsz/
URL:https://momkult.hu/events/hello-wmn-eloben-a-szinpadon-i-harcolsz-vagy-menekulsz/
END:VEVENT
END:VCALENDAR