BEGIN:VCALENDAR
VERSION:2.0
PRODID:-//eventon.com NONSGML v1.0//EN
CALSCALE:GREGORIAN
METHOD:PUBLISH
BEGIN:VEVENT
UID:69e75fb1d37da
DTSTAMP:20260421T112953Z
DTSTART:20220422T090000Z
DTEND:20220422T094000Z
LOCATION:
SUMMARY:PR-EVOLUTION DANCE COMPANY
DESCRIPTION:Azon programoknál\,  ahol a helyszín sajátosságai miatt nem
  tartható a látogatók közötti másfél méter\,  továbbra is ajánlju
 k a maszk viselését. ____________________________________________________
 ___________________________________ A PR-Evolution Dance Company 2014. óta
  kiemelt kategóriájú táncegyüttesként működik. Hitvallásuk és cé
 ljuk az új utak keresése és a kortárs tánc népszerűsítése.  A Lú
 danyó meséi (franciául Mamère l&#8217;Oye) Maurice[..]\nhttps://momkult
 .hu/events/pr-evolution-dance-company/
URL:https://momkult.hu/events/pr-evolution-dance-company/
END:VEVENT
END:VCALENDAR