BEGIN:VCALENDAR
VERSION:2.0
PRODID:-//eventon.com NONSGML v1.0//EN
CALSCALE:GREGORIAN
METHOD:PUBLISH
BEGIN:VEVENT
UID:69e75e0ad0dbc
DTSTAMP:20260421T112250Z
DTSTART:20220420T170000Z
DTEND:20220420T190000Z
LOCATION:
SUMMARY:Viszonylagos öröklét #4
DESCRIPTION:Azon programoknál\,  ahol a helyszín sajátosságai miatt nem
  tartható a látogatók közötti másfél méter\,  továbbra is ajánlju
 k a maszk viselését. ____________________________________________________
 ___________________________________ A NEMES NAGY ÁGNES 100 CENTENÁRIUMI R
 ENDEZVÉNYSOROZAT NEGYEDIK ESEMÉNYE 2022-ben Nemes Nagy Ágnes Kossuth-dí
 jas költő születésének századik évfordulójának tiszteletére a Pet
 őfi Kulturális Ügynökség és a Petőfi Irodalmi Múzeum Juhász[..]\nh
 ttps://momkult.hu/events/viszonylagos-oroklet-4/
URL:https://momkult.hu/events/viszonylagos-oroklet-4/
END:VEVENT
END:VCALENDAR