BEGIN:VCALENDAR
VERSION:2.0
PRODID:-//eventon.com NONSGML v1.0//EN
CALSCALE:GREGORIAN
METHOD:PUBLISH
BEGIN:VEVENT
UID:69e75afb2b614
DTSTAMP:20260421T110947Z
DTSTART:20220412T170000Z
DTEND:20220412T190000Z
LOCATION:
SUMMARY:VIRDUOSO
DESCRIPTION:Tájékoztatjuk látogatóinkat\,  hogy az április 12-i koncer
 t Virdusoso elmarad. Azon programoknál\,  ahol a helyszín sajátosságai 
 miatt nem tartható a látogatók közötti másfél méter\,  továbbra is
  ajánljuk a maszk viselését. ___________________________________________
 ____________________________________________ A 2007-ben alakult virDUOso eg
 yüttes tagjai Vihula Mihajlo gitárművész és Szurasenkó Dániel blockf
 löteművész 17-18. századi dallamokat adnak elő modern feldolgozásban.
 [..]\nhttps://momkult.hu/events/virduoso/
URL:https://momkult.hu/events/virduoso/
END:VEVENT
END:VCALENDAR