BEGIN:VCALENDAR
VERSION:2.0
PRODID:-//eventon.com NONSGML v1.0//EN
CALSCALE:GREGORIAN
METHOD:PUBLISH
BEGIN:VEVENT
UID:69e74821174d2
DTSTAMP:20260421T094921Z
DTSTART:20220507T170000Z
DTEND:20220507T190000Z
LOCATION:
SUMMARY:A DÖNTÉS
DESCRIPTION:Azon programoknál\,  ahol a helyszín sajátosságai miatt nem
  tartható a látogatók közötti másfél méter\,  továbbra is ajánlju
 k a maszk viselését. ____________________________________________________
 ___________________________________ A döntés című előadás Csányi Sá
 ndor és Tenki Réka első közös színházi munkája\,  Dr. Edith Eva Ege
 r világsikerű művét dolgozzák fel\,  és mutatják be a MOMKult színp
 adán. A könyv[..]\nhttps://momkult.hu/events/a-dontes-0507/
URL:https://momkult.hu/events/a-dontes-0507/
END:VEVENT
END:VCALENDAR