BEGIN:VCALENDAR
VERSION:2.0
PRODID:-//eventon.com NONSGML v1.0//EN
CALSCALE:GREGORIAN
METHOD:PUBLISH
BEGIN:VEVENT
UID:69e76e913b88b
DTSTAMP:20260421T123321Z
DTSTART:20220407T170000Z
DTEND:20220407T190000Z
LOCATION:
SUMMARY:EGY MINDENKIÉRT? – EGYÉN ÉS KÖZÖSSÉG A 21. SZÁZADBAN
DESCRIPTION:Azon programoknál\,  ahol a helyszín sajátosságai miatt nem
  tartható a látogatók közötti másfél méter\,  továbbra is ajánlju
 k a maszk viselését. ____________________________________________________
 __________________________________ A Magyar Krónika áprilisi lapszámána
 k bemutatóján a Pannonhalmi Főapátság és a bencés közösség péld
 ján keresztül\,  az egyházi falakon kívüli élettel való párhuzamba
  állításával adnak támpontokat a meghívott beszélgetők a[..]\nhttps
 ://momkult.hu/events/egy-mindenkiert-egyen-es-kozosseg-a-21-szazadban/
URL:https://momkult.hu/events/egy-mindenkiert-egyen-es-kozosseg-a-21-szazadban/
END:VEVENT
END:VCALENDAR