BEGIN:VCALENDAR
VERSION:2.0
PRODID:-//eventon.com NONSGML v1.0//EN
CALSCALE:GREGORIAN
METHOD:PUBLISH
BEGIN:VEVENT
UID:69e76e9b9efdd
DTSTAMP:20260421T123331Z
DTSTART:20220326T170000Z
DTEND:20220326T190000Z
LOCATION:
SUMMARY:KÉSZENLÉTI RENDŐRSÉG ZENEKARA
DESCRIPTION:Azon programoknál\,  ahol a helyszín sajátosságai miatt nem
  tartható a látogatók közötti másfél méter\,  továbbra is ajánlju
 k a maszk viselését. ____________________________________________________
 ____________________________ A Készenléti Rendőrség Zenekara közel 100
  éve alakult. A Bach Mindenkinek Fesztivál keretében az idei műsorukban
  az eddigi nagylétszámú\,  úgynevezett koncertfúvós-zenekari feláll
 s helyett\,  idén a kamaramuzsikálásé lesz a főszerep.[..]\nhttps://m
 omkult.hu/events/keszenleti-rendorseg-zenekara/
URL:https://momkult.hu/events/keszenleti-rendorseg-zenekara/
END:VEVENT
END:VCALENDAR