BEGIN:VCALENDAR
VERSION:2.0
PRODID:-//eventon.com NONSGML v1.0//EN
CALSCALE:GREGORIAN
METHOD:PUBLISH
BEGIN:VEVENT
UID:69e75b477aa42
DTSTAMP:20260421T111103Z
DTSTART:20220409T170000Z
DTEND:20220409T190000Z
LOCATION:
SUMMARY:CSÁNYI SÁNDOR SZÍNHÁZI ESTJE
DESCRIPTION:Azon programoknál\,  ahol a helyszín sajátosságai miatt nem
  tartható a látogatók közötti másfél méter\,  továbbra is ajánlju
 k a maszk viselését. ____________________________________________________
 ___________________________________ Kedves Érdeklődők\,  tisztelt Vendé
 gek! Felhívjuk figyelmüket\,  hogy az előadásra a későn érkezőket n
 em áll módunkban beengedni. Köszönjük megértésüket! _______________
 ________________________________________________________________________ Mi
  a teendő\,  ha az ember a szülőszoba ajtajában döbben[..]\nhttps://mo
 mkult.hu/events/csanyi-sandor-szinhazi-estje-0409/
URL:https://momkult.hu/events/csanyi-sandor-szinhazi-estje-0409/
END:VEVENT
END:VCALENDAR